Workbook

Sheet Tracebility Matrix
B1: Application Name : | C1: RMS
B2: CR / FTR No. : | C2: FTR07635
B3: Description : | C3: BMS Opms Engine encountered service hang
B4: Document Name : | C4: Test Cases
B5: Prepared by : | C5: Shivashakti Konar
B6: Prepared on : | C6: 46001
B7: Reviewed by : | C7: Rashmi BN
B8: Reviewed on : | C8: 46001
B10: Sr. No. | C10: Test Scenario ID | D10: Connected Test Case IDs | E10: No. of Test Cases
B11: 1 | C11: TS_FTR07635_001 | D11: TS_FTR07635_001_001 TOTS_FTR07635_001_011 | E11: 11
B12: Total | E12: =SUM(E11:E11) -> 11

Sheet Test Scenario
B1: Application Name : | C1: RMS
B2: CR / FTR No. : | C2: ='Tracebility Matrix'!C2:F2 -> FTR07635
B3: Description : | C3: ='Tracebility Matrix'!C3:F3 -> BMS Opms Engine encountered service hang
B4: Document Name : | C4: Test Cases
B5: Prepared by : | C5: ='Tracebility Matrix'!C5:F5 -> Shivashakti Konar
B6: Prepared on : | C6: 46001
B7: Reviewed by : | C7: ='Tracebility Matrix'!C7:F7 -> Rashmi BN
B8: Reviewed on : | C8: 46001
B10: Test Scenario ID | C10: Reference Document | D10: Test Scenario | E10: Description | F10: Remarks
B11: TS_FTR07637_001 | C11: IA & BRS | D11: To Verify BMSOpmsEngine Process functionality

Sheet Test Cases
B1: Application Name : | C1: RMS
B2: CR / FTR No. : | C2: ='Tracebility Matrix'!C2:F2 -> FTR07635
B3: Description : | C3: ='Tracebility Matrix'!C3:F3 -> BMS Opms Engine encountered service hang
B4: Document Name : | C4: Test Cases
B5: Prepared by : | C5: ='Tracebility Matrix'!C5:F5 -> Shivashakti Konar
B6: Prepared on : | C6: ='Tracebility Matrix'!C6:F6 -> 46001
B7: Reviewed by : | C7: ='Tracebility Matrix'!C7:F7 -> Rashmi BN
B8: Reviewed on : | C8: ='Tracebility Matrix'!C8:F8 -> 46001
B10: Test Case_ID | C10: Module | D10: Sub Module | E10: Screen Name | F10: Test Case Description | G10: Test Pre-requisite | H10: Priority | I10: Severity | J10: Step name | K10: Test Steps | L10: Test Data | M10: Expected Output | N10: Actual Output | O10: Status(Pass/Fail) | P10: Executed By | Q10: Execution Date | R10: Defect ID | S10: Retested On | T10: Retested Result | U10: QA Remarks
B11: TS_FTR07635_001_001 | C11: EOD | D11: NA | E11: NA | F11: To Verify installed RMS Version is 11.1.0 | G11: EOD should be completed | H11: High | I11: High | J11: Step 1 | K11: Perform Deployment as per mentioned in SRN_PROD_VER_11.1.0.docx | M11: RMS version 11.1.0 should be deploy successfully
J12: Step 2 | K12: Check Deployed version in DB | L12: Login SQL IP : 172.29.51.17 username: ncclriskprodfgw password: ********* Service : NCPRSMQA1 Open RMS_VERSION table | M12: Version should get update in 'RV_VERSION' column.
J13: Step 3 | K13: Check Deployed version in /home/ncclfgw/RmsBESetUp | L13: Login Mputty IP : 172.29.72.25 username: ncclfgw password: ********* Go to path /home/ncclfgfw/RmsBESetUp | M13: Folder Version 11.1.0 should get visible.
J14: Step 4 | K14: Check updated binaries. | L14: Login Mputty IP : 172.29.72.25 username: ncclfgw password: ********* Go to path /home/ncclfgfw/Dev/RmsDev/bin | M14: Check all the binaries affected in Particular releases are updated with latest timestamp (i.e timing when deployment is done)
H15: High | I15: High | J15: Step 5 | K15: login To RMS application and perform BOD | L15: Login RMSFE Env : Prod/UAT Login via : RMS username: shaktik password: ********* | M15: User should be able to login and BOD should get completed successfully
B16: TS_FTR07635_001_002 | C16: EOD | D16: NA | E16: NA | F16: To Verify BMS File Upload Functionality From RMS FE | G16: Intrady should be Up | H16: High | I16: High | J16: Step 1 | K16: Login RMS FE | L16: Env : Prod/UAT Login via : RMS username: shaktik password: ********* | M16: User should be able to login successfully.
J17: Step 2 | K17: Click on Rms Configuration > BMS File Upload | L17: Upload "Report_637134834958222130.in" File | M17: User should be able to select the File by clicking on select and upload the file by clicking on upload sucessfullly.
J18: Step 3 | K18: Check output file is getting generated | L18: Go to ../BMS_OUT_FILES | M18: "Report_637134834958222910_16_17_30.csv" should get generated in specified path sucessfully.
B19: TS_FTR07635_001_003 | C19: EOD | D19: NA | E19: NA | F19: Verfiy "BMSOpmsEngine" process when "Report_637134834958222130.in" is uploaded with active contract token from RMS FE. | G19: Intrady should be Up | H19: High | I19: High | J19: Step 1 | K19: Login RMS FE | L19: Env : Prod/UAT Login via : RMS username: shaktik password: ********* | M19: User should be able to login successfully.
J20: Step 2 | K20: Upload "Report_637134834958222130.in" File Click on Rms Configuration > BMS File Upload | L20: M50048,00049,SAGA,51080,20,S M50048,00049,SAGA,51862,50,B M50048,00049,SAGA,51976,20,S | M20: User should be able to select the File by clicking on select and upload the file by clicking on upload sucessfullly.
J21: Step 3 | K21: Check Popup | M21: User should be able to view popup "File Validation Sucessfully completed"
J22: Step 4 | K22: Check BMSOpmsEngine process | M22: BmsOpmsEngine process should be in running state.
J23: Step 5 | K23: Check output file is getting generated | L23: Go to ../BMS_OUT_FILES | M23: "Report_637134834958222130_16_17_30.csv" should get generated in specified path sucessfully.
J24: Step 6 | K24: Chcek file data | M24: All margin should be calculated as per BOD parameters.
B25: TS_FTR07635_001_004 | C25: EOD | D25: NA | E25: NA | F25: Verfiy "BMSOpmsEngine" process when "F00049_638938122391611448.in" is received with active contract token from NCFE. | G25: Intrady should be Up | H25: High | I25: High | J25: Step 1 | K25: Ask NCFE team to send request to BMS for margin using "F00049_638938122391611448.in" | L25: M50048,00049,SAGA,51080,20,S M50048,00049,SAGA,51862,50,B M50048,00049,SAGA,51976,20,S | M25: User should be able to see the file in /home/ncclfgw/BMS path.
J26: Step 2 | K26: Check Log | M26: BMS should receive transcode for processing of file.
J27: Step 3 | K27: Check BMSOpmsEngine process | M27: BmsOpmsEngine process should be in running state.
J28: Step 4 | K28: Check output file is getting generated | L28: Go to /home/ncclfgw/BMS | M28: "F00049_638938122391611448.csv" should get generated in specified path sucessfully.
J29: Step 5 | K29: Check file data | M29: All margin should be calculated as per BOD parameters.
B30: TS_FTR07635_001_005 | C30: EOD | D30: NA | E30: NA | F30: Verfiy "BMSOpmsEngine" process when "Report_637134834958222130.in" is uploaded with Expired contract token from RMS FE. | G30: Intrady should be Up | H30: High | I30: High | J30: Step 1 | K30: Login RMS FE | L30: Env : Prod/UAT Login via : RMS username: shaktik password: ********* | M30: User should be able to login successfully.
J31: Step 2 | K31: Upload "Report_637134834958222130.in" File Click on Rms Configuration > BMS File Upload | L31: Expired Tokens in Bold: M50048,00049,SAGA,51080,20,S M50048,00049,SAGA,51862,50,B M50048,00049,SAGA,51976,20,S | M31: User should be able to select the File by clicking on select and upload the file by clicking on upload sucessfullly.
J32: Step 3 | K32: Check Popup | M32: User should be able to view popup "File Validation Failed/Invalid token id present in file"
J33: Step 4 | K33: Check BMSOpmsEngine process | M33: BmsOpmsEngine process should be in running state.
J34: Step 5 | K34: Check output file is getting generated | L34: Go to ../BMS_OUT_FILES | M34: Blank "Report_637134834958222910_16_17_30.csv" should get generated in specified path sucessfully.
B35: TS_FTR07635_001_006 | C35: EOD | D35: NA | E35: NA | F35: Verfiy "BMSOpmsEngine" process when "F00049_638938122391611448.in" is received with Expired contract token from NCFE. | G35: Intrady should be Up | H35: High | I35: High | J35: Step 1 | K35: Ask NCFE team to send request to BMS for margin using "F00049_638938122391611448.in" | L35: Expired Tokens in Bold: M50048,00049,SAGA,51080,20,S M50048,00049,SAGA,51862,50,B M50048,00049,SAGA,51976,20,S | M35: User should be able to see the file in /home/ncclfgw/BMS path.
J36: Step 2 | K36: Check Log | M36: BMS should receive transcode for processing of file.
J37: Step 3 | K37: Check BMSOpmsEngine process | M37: BmsOpmsEngine process should be in running state.
J38: Step 4 | K38: Check output file is getting generated | L38: Go to /home/ncclfgw/BMS | M38: Blank "F00049_638938122391611448.csv" should get generated in specified path sucessfully.
J39: Step 5 | K39: Check Log | M39: Transcode should be sent to NCFE for File Rejection.
B40: TS_FTR07635_001_007 | C40: EOD | D40: NA | E40: NA | F40: Verify during peak margin file generation time "Report_184_DDMMYYYYHHMMSS.in" is received | G40: Intrady should be Up | H40: High | I40: High | J40: Step 1 | K40: Login RMS FE | L40: Env : Prod/UAT Login via : RMS username: shaktik password: ********* | M40: User should be able to login successfully.
J41: Step 2 | K41: Set Peak margin timing Go to RMS Configuration > Peak Margin | L41: srno. - 1 Start Time - 11:00:00 End Time - 11:40:00 Executable Time : 11:25:00 Report Time: 11:30:00 Report/Executable time - Report Time Flag - N | M41: User should be able to set timings as specified.
J42: Step 3 | K42: Check whether "Report_184_DDMMYYYYHHMMSS.in" file is received | L42: Go to /home/ncclfgw/Dev/RmsDev/Data/Report path | M42: Respective file should get generated during specified time.
B43: TS_FTR07635_001_008 | C43: EOD | D43: NA | E43: NA | F43: Verify during peak margin file generation time "Report_184_DDMMYYYYHHMMSS.csv" is generated | G43: Intrady should be Up | H43: High | I43: High | J43: Step 1 | K43: Login RMS FE | L43: Env : Prod/UAT Login via : RMS username: shaktik password: ********* | M43: User should be able to login successfully.
J44: Step 2 | K44: Set Peak margin timing Go to RMS Configuration > Peak Margin | L44: srno. - 1 Start Time - 11:00:00 End Time - 11:40:00 Executable Time : 11:25:00 Report Time: 11:30:00 Report/Executable time - Report Time Flag - N | M44: User should be able to set timings as specified.
J45: Step 3 | K45: Check whether request file "Report_184_DDMMYYYYHHMMSS.in" file is received | L45: Go to /home/ncclfgw/Dev/RmsDev/Data/Report path | M45: Respective file should get received during specified time.
J46: Step 4 | K46: Check whether Response file "Report_184_DDMMYYYYHHMMSS.csv" is generted | L46: Go to /home/ncclfgw/Dev/RmsDev/Data/Report path | M46: Respective file should get generated during specified time.
J47: Step 5 | K47: Check file data | M47: All margin should be calculated as per BOD parameters.
B48: TS_FTR07635_001_009 | C48: EOD | D48: NA | E48: NA | F48: Verify "Report_184_DDMMYYYYHHMMSS.in" is generated on EOD click | G48: Intrady should be Up | H48: High | I48: High | J48: Step 1 | K48: Login RMS FE | L48: Env : Prod/UAT Login via : RMS username: shaktik password: ********* | M48: User should be able to login successfully.
J49: Step 2 | K49: Click On RMS EOD buton | M49: User should be able to Click on OD BUTTON.
J50: Step 3 | K50: Check whether "Report_184_DDMMYYYYHHMMSS.in" file is received | L50: Go to /home/ncclfgw/Dev/RmsDev/Data/Report path | M50: Respective file should get generated during specified time.
B51: TS_FTR07635_001_010 | C51: EOD | D51: NA | E51: NA | F51: Verify "Report_184_DDMMYYYYHHMMSS.csv" is generated on EOD click | G51: Intrady should be Up | H51: High | I51: High | J51: Step 1 | K51: Login RMS FE | L51: Env : Prod/UAT Login via : RMS username: shaktik password: ********* | M51: User should be able to login successfully.
J52: Step 2 | K52: Click on EOD Button | M52: User should be able to click on EOD button sucessfully.
J53: Step 3 | K53: Check whether request file "Report_184_DDMMYYYYHHMMSS.in" file is received | L53: Go to /home/ncclfgw/Dev/RmsDev/Data/Report path | M53: Respective file should get received during specified time.
J54: Step 4 | K54: Check whether Response file "Report_184_DDMMYYYYHHMMSS.csv" is generted | L54: Go to /home/ncclfgw/Dev/RmsDev/Data/Report path | M54: Respective file should get generated during specified time.
J55: Step 5 | K55: Check file data | M55: All margin should be calculated as per BOD parameters.
B56: TS_FTR07635_001_011 | C56: EOD | D56: NA | E56: NA | F56: Verify BMSOpmsEngine is in Running state after pre-recovery | G56: Intrady should be Up | H56: High | I56: High | J56: Step 1 | K56: Login RMS FE | L56: Env : Prod/UAT Login via : RMS username: shaktik password: ********* | M56: User should be able to login successfully.
J57: Step 2 | K57: Check RMS Intraday is up | M57: RMS Intraday shpuld be up
J58: Step 3 | K58: Kill Alert server to do pre-recovery | L58: Login Mputty IP : 172.29.72.25 username: ncclfgw password: ********* ps ax | grep 1030 kill -9 | M58: RMS should get abondend Pre-recovery button should get enabled.
J59: Step 4 | K59: complete Pre-recovery | M59: Pre-recovery should get completed sucessfully and RMS Intraday button should get enabled.
J60: Step 5 | K60: Check BMSOpmsEngine process | L60: Login Mputty IP : 172.29.72.25 username: ncclfgw password: ********* ps ax | grep BMS | M60: BmsOpmsEngine process should be in running state.

Sheet Effort Estimation
B2: Testing effort estimation
B3: CR / FTR No.: | C3: FTR07635 | D3: 8
C4: Estimation
B5: Steps | C5: No. of hours | D5: No. of days
B6: Preparation of test cases | C6: 4 | D6: =C6/$D$3 -> 0.5
B7: Preparation of Test bed | C7: 2 | D7: =C7/$D$3 -> 0.25
B8: Recreation of incident (FTR) | C8: 0 | D8: =C8/$D$3 -> 0
B9: Execution of test cases | C9: 8 | D9: =C9/$D$3 -> 1
B10: Testing of 'Ready for release' bugs | C10: 0 | D10: =C10/$D$3 -> 0
B11: Regression testing after re-testing | C11: 0 | D11: =C11/$D$3 -> 0
B12: Preparation of test documentation | C12: 2 | D12: =C12/$D$3 -> 0.25
B13: Automation of test cases | D13: =C13/$D$3 -> 0
B14: Total efforts | C14: =SUM(C6:C13) -> 16 | D14: =SUM(D6:D13) -> 2
B15: Rounded off to
B17: Notes:
B18: 1. No. of hours considered for a day is 8 hours.
B19: 2.15% of total hours of testing will be considered for Bug re-testing.
